Workbook

Sheet 2_Grundgesamtheit
B1: XXX GmbH Wirtschaftsprüfungsgesellschaft
B3: Anlage 2 zum Bericht über die Durchführung der Qualitätskontrolle gemäß § 57a WPO (Grundgesamtheit der Auftragsabwicklungen)
D6: Periode | E6: 20xx | G6: 20xx | I6: 20xx | K6: 20xx | M6: 20xx | O6: 20xx | Q6: 20xx | S6: Gesamt
B7: Auftragsarten | E7: Anzahl | F7: Stunden | G7: Anzahl | H7: Stunden | I7: Anzahl | J7: Stunden | K7: Anzahl | L7: Stunden | M7: Anzahl | N7: Stunden | O7: Anzahl | P7: Stunden | Q7: Anzahl | R7: Stunden | S7: Anzahl | T7: Stunden
B10: Gesetzliche Jahresabschlussprüfungen* | E10: 0 | F10: 0 | G10: 0 | H10: 0 | I10: 0 | J10: 0 | K10: 0 | L10: 0 | M10: 0 | N10: 0 | O10: 0 | P10: 0 | Q10: 0 | R10: 0 | S10: =SUM(E10+G10+I10+K10+M10+O10+Q10) -> 0 | T10: =SUM(F10+H10+J10+L10+N10+P10+R10) -> 0
B12: davon noch nicht abgeschlossen | E12: 0 | F12: 0 | G12: 0 | H12: 0 | I12: 0 | J12: 0 | K12: 0 | L12: 0 | M12: 0 | N12: 0 | O12: 0 | P12: 0 | Q12: 0 | R12: 0 | S12: =SUM(E12+G12+I12+K12+M12+O12+Q12) -> 0 | T12: =SUM(F12+H12+J12+L12+N12+P12+R12) -> 0
B15: Gesetzliche Konzernabschlussprüfungen* | E15: 0 | F15: 0 | G15: 0 | H15: 0 | I15: 0 | J15: 0 | K15: 0 | L15: 0 | M15: 0 | N15: 0 | O15: 0 | P15: 0 | Q15: 0 | R15: 0 | S15: =SUM(E15+G15+I15+K15+M15+O15+Q15) -> 0 | T15: =SUM(F15+H15+J15+L15+N15+P15+R15) -> 0
B17: davon noch nicht abgeschlossen | E17: 0 | F17: 0 | G17: 0 | H17: 0 | I17: 0 | J17: 0 | K17: 0 | L17: 0 | M17: 0 | N17: 0 | O17: 0 | P17: 0 | Q17: 0 | R17: 0 | S17: =SUM(E17+G17+I17+K17+M17+O17+Q17) -> 0 | T17: =SUM(F17+H17+J17+L17+N17+P17+R17) -> 0
B20: Prüfungen, die von der BaFin beauftragt wurden | E20: 0 | F20: 0 | G20: 0 | H20: 0 | I20: 0 | J20: 0 | K20: 0 | L20: 0 | M20: 0 | N20: 0 | O20: 0 | P20: 0 | Q20: 0 | R20: 0 | S20: =SUM(E20+G20+I20+K20+M20+O20+Q20) -> 0 | T20: =SUM(F20+H20+J20+L20+N20+P20+R20) -> 0
B22: davon noch nicht abgeschlossen | E22: 0 | F22: 0 | G22: 0 | H22: 0 | I22: 0 | J22: 0 | K22: 0 | L22: 0 | M22: 0 | N22: 0 | O22: 0 | P22: 0 | Q22: 0 | R22: 0 | S22: =SUM(E22+G22+I22+K22+M22+O22+Q22) -> 0 | T22: =SUM(F22+H22+J22+L22+N22+P22+R22) -> 0
B25: Gesamt | E25: =SUM(E10+E15+E20) -> 0 | F25: =SUM(F10+F15+F20) -> 0 | G25: =SUM(G10+G15+G20) -> 0 | H25: =SUM(H10+H15+H20) -> 0 | I25: =SUM(I10+I15+I20) -> 0 | J25: =SUM(J10+J15+J20) -> 0 | K25: =SUM(K10+K15+K20) -> 0 | L25: =SUM(L10+L15+L20) -> 0 | ... R25: =SUM(R10+R15+R20) -> 0 | S25: =SUM(E25+G25+I25+K25+M25+O25+Q25) -> 0 | T25: =SUM(F25+H25+J25+L25+N25+P25+R25) -> 0
B27: nachrichtlich:
B28: Jahresabschlussprüfungen nach § 316a HGB | E28: 0 | F28: 0 | G28: 0 | H28: 0 | I28: 0 | J28: 0 | K28: 0 | L28: 0 | M28: 0 | N28: 0 | O28: 0 | P28: 0 | Q28: 0 | R28: 0 | S28: =SUM(E28+G28+I28+K28+M28+O28+Q28) -> 0 | T28: =SUM(F28+H28+J28+L28+N28+P28+R28) -> 0
B29: Konzernabschlussprüfungen nach § 316a HGB | E29: 0 | F29: 0 | G29: 0 | H29: 0 | I29: 0 | J29: 0 | K29: 0 | L29: 0 | M29: 0 | N29: 0 | O29: 0 | P29: 0 | Q29: 0 | R29: 0 | S29: =SUM(E29+G29+I29+K29+M29+O29+Q29) -> 0 | T29: =SUM(F29+H29+J29+L29+N29+P29+R29) -> 0
B32: Gesamt § 316a HGB | E32: =SUM(E28:E29) -> 0 | F32: =SUM(F28:F29) -> 0 | G32: =SUM(G28:G29) -> 0 | H32: =SUM(H28:H29) -> 0 | I32: =SUM(I28:I29) -> 0 | J32: =SUM(J28:J29) -> 0 | K32: =SUM(K28:K29) -> 0 | L32: =SUM(L28:L29) -> 0 | ... T32: =SUM(T28:T29) -> 0
B34: Summe der Umsatzerlöse (in TEUR) | E34: 0 | G34: 0 | I34: 0 | K34: 0 | M34: 0 | O34: 0 | Q34: 0 | S34: =SUM(E34:R34) -> 0
B37: * Prüfungen nach § 316a HGB sind nicht in die Grundgesamtheit aufzunehmen.

Sheet 3_Auftragsauswahl
B1: ='2_Grundgesamtheit'!B1 -> XXX GmbH Wirtschaftsprüfungsgesellschaft
B3: Anlage 3 (Arbeitshilfe Auftragsauswahl)
B5: Grunddaten | E5: Hinweis: Die hier im oberen Teil eingetragenen Daten fließen automatisch kumuliert in die Anlage 4 ein.
B6: Lfd. Nr. | E6: 1 | F6: 2 | G6: 3 | H6: 4 | I6: 5 | J6: 6 | K6: 7 | L6: 8 | M6: 9 | N6: 10
B7: Rechtsform
B8: Branche
B9: JAP / KAP / BaFin
B10: Kalenderjahr Abwicklung Prüfung / Testat
B11: Abschlussstichtag
B12: Abgeschlossene Prüfung (x = ja)
B13: Nachschau durchgeführt (x = ja)
B14: Wenn ja: Für diese Nachschau von der Praxis aufgewendete Prüferstunden
B15: Prüferstunden der Praxis für den Auftrag insgesamt
B16: Umsatzerlöse
B18: Auswahlkriterien | C18: Relevantes Kriterium für die geprüfte Praxis (x = ja)? | E18: Konkrete Kriterien für die getroffene Auswahl der einzelnen Aufträge
B19: Nachschau durchgeführt
B20: Erkenntnisse aus der vorherigen QK
B21: Erkenntnisse aus der Nachschau
B22: Auswahl der Prüfungsaufträge mehrerer Jahre
B23: Mängel in der vorherigen QK
B24: Auftragsarten (JAP / KAP / BaFin)
B25: Öffentliches Interesse
B26: Branchen
B27: Risikoprüfungen, wirtschaftliche Situation
B28: Rechtsform
B29: Größe
B30: Prüfungsstunden
... B45: Bemerkungen

Sheet 4_Ausgewählte Aufträge
B1: ='2_Grundgesamtheit'!B1 -> XXX GmbH Wirtschaftsprüfungsgesellschaft
B3: Anlage 4 zum Bericht über die Durchführung der Qualitätskontrolle gemäß § 57a WPO (Ausgewählte Aufträge)
D6: Periode | E6: ='2_Grundgesamtheit'!E6 -> 20xx | G6: ='2_Grundgesamtheit'!G6 -> 20xx | I6: ='2_Grundgesamtheit'!I6 -> 20xx | K6: ='2_Grundgesamtheit'!K6 -> 20xx | M6: ='2_Grundgesamtheit'!M6 -> 20xx | O6: ='2_Grundgesamtheit'!O6 -> 20xx | Q6: ='2_Grundgesamtheit'!Q6 -> 20xx | S6: Gesamt
B7: Auftragsarten | E7: Anzahl | F7: Stunden | G7: Anzahl | H7: Stunden | I7: Anzahl | J7: Stunden | K7: Anzahl | L7: Stunden | M7: Anzahl | N7: Stunden | O7: Anzahl | P7: Stunden | Q7: Anzahl | R7: Stunden | S7: Anzahl | T7: Stunden
B10: Gesetzliche Jahresabschlussprüfungen* | E10: =IF(Kalkulation!$J$3=0,0,Kalkulation!C5) -> 0 | F10: =IF(Kalkulation!$J$3=0,0,Kalkulation!C12) -> 0 | G10: =IF(Kalkulation!$J$3=0,0,Kalkulation!D5) -> 0 | H10: =IF(Kalkulation!$J$3=0,0,Kalkulation!D12) -> 0 | I10: =IF(Kalkulation!$J$3=0,0,Kalkulation!E5) -> 0 | J10: =IF(Kalkulation!$J$3=0,0,Kalkulation!E12) -> 0 | K10: =IF(Kalkulation!$J$3=0,0,Kalkulation!F5) -> 0 | L10: =IF(Kalkulation!$J$3=0,0,Kalkulation!F12) -> 0 | M10: =IF(Kalkulation!$J$3=0,0,Kalkulation!G5) -> 0 | N10: =IF(Kalkulation!$J$3=0,0,Kalkulation!G12) -> 0 | O10: =IF(Kalkulation!$J$3=0,0,Kalkulation!H5) -> 0 | P10: =IF(Kalkulation!$J$3=0,0,Kalkulation!H12) -> 0 | Q10: =IF(Kalkulation!$J$3=0,0,Kalkulation!I5) -> 0 | R10: =IF(Kalkulation!$J$3=0,0,Kalkulation!I12) -> 0 | S10: =SUM(E10+G10+I10+K10+M10+O10+Q10) -> 0 | T10: =SUM(E10+H10+J10+L10+N10+P10+R10) -> 0
B12: davon noch nicht abgeschlossen | E12: =IF(Kalkulation!$J$3=0,0,Kalkulation!C19) -> 0 | F12: =IF(Kalkulation!$J$3=0,0,Kalkulation!C26) -> 0 | G12: =IF(Kalkulation!$J$3=0,0,Kalkulation!D19) -> 0 | H12: =IF(Kalkulation!$J$3=0,0,Kalkulation!D26) -> 0 | I12: =IF(Kalkulation!$J$3=0,0,Kalkulation!E19) -> 0 | J12: =IF(Kalkulation!$J$3=0,0,Kalkulation!E26) -> 0 | K12: =IF(Kalkulation!$J$3=0,0,Kalkulation!F19) -> 0 | L12: =IF(Kalkulation!$J$3=0,0,Kalkulation!F26) -> 0 | M12: =IF(Kalkulation!$J$3=0,0,Kalkulation!G19) -> 0 | N12: =IF(Kalkulation!$J$3=0,0,Kalkulation!G26) -> 0 | O12: =IF(Kalkulation!$J$3=0,0,Kalkulation!H19) -> 0 | P12: =IF(Kalkulation!$J$3=0,0,Kalkulation!H26) -> 0 | Q12: =IF(Kalkulation!$J$3=0,0,Kalkulation!I19) -> 0 | R12: =IF(Kalkulation!$J$3=0,0,Kalkulation!I26) -> 0 | S12: =SUM(E12+G12+I12+K12+M12+O12+Q12) -> 0 | T12: =SUM(E12+H12+J12+L12+N12+P12+R12) -> 0
B15: Gesetzliche Konzernabschlussprüfungen* | E15: =IF(Kalkulation!$J$3=0,0,Kalkulation!C6) -> 0 | F15: =IF(Kalkulation!$J$3=0,0,Kalkulation!C13) -> 0 | G15: =IF(Kalkulation!$J$3=0,0,Kalkulation!D6) -> 0 | H15: =IF(Kalkulation!$J$3=0,0,Kalkulation!D13) -> 0 | I15: =IF(Kalkulation!$J$3=0,0,Kalkulation!E6) -> 0 | J15: =IF(Kalkulation!$J$3=0,0,Kalkulation!E13) -> 0 | K15: =IF(Kalkulation!$J$3=0,0,Kalkulation!F6) -> 0 | L15: =IF(Kalkulation!$J$3=0,0,Kalkulation!F13) -> 0 | M15: =IF(Kalkulation!$J$3=0,0,Kalkulation!G6) -> 0 | N15: =IF(Kalkulation!$J$3=0,0,Kalkulation!G13) -> 0 | O15: =IF(Kalkulation!$J$3=0,0,Kalkulation!H6) -> 0 | P15: =IF(Kalkulation!$J$3=0,0,Kalkulation!H13) -> 0 | Q15: =IF(Kalkulation!$J$3=0,0,Kalkulation!I6) -> 0 | R15: =IF(Kalkulation!$J$3=0,0,Kalkulation!I13) -> 0 | S15: =SUM(E15+G15+I15+K15+M15+O15+Q15) -> 0 | T15: =SUM(E15+H15+J15+L15+N15+P15+R15) -> 0
B17: davon noch nicht abgeschlossen | E17: =IF(Kalkulation!$J$3=0,0,Kalkulation!C20) -> 0 | F17: =IF(Kalkulation!$J$3=0,0,Kalkulation!C27) -> 0 | G17: =IF(Kalkulation!$J$3=0,0,Kalkulation!D20) -> 0 | H17: =IF(Kalkulation!$J$3=0,0,Kalkulation!D27) -> 0 | I17: =IF(Kalkulation!$J$3=0,0,Kalkulation!E20) -> 0 | J17: =IF(Kalkulation!$J$3=0,0,Kalkulation!E27) -> 0 | K17: =IF(Kalkulation!$J$3=0,0,Kalkulation!F20) -> 0 | L17: =IF(Kalkulation!$J$3=0,0,Kalkulation!F27) -> 0 | M17: =IF(Kalkulation!$J$3=0,0,Kalkulation!G20) -> 0 | N17: =IF(Kalkulation!$J$3=0,0,Kalkulation!G27) -> 0 | O17: =IF(Kalkulation!$J$3=0,0,Kalkulation!H20) -> 0 | P17: =IF(Kalkulation!$J$3=0,0,Kalkulation!H27) -> 0 | Q17: =IF(Kalkulation!$J$3=0,0,Kalkulation!I20) -> 0 | R17: =IF(Kalkulation!$J$3=0,0,Kalkulation!I27) -> 0 | S17: =SUM(E17+G17+I17+K17+M17+O17+Q17) -> 0 | T17: =SUM(E17+H17+J17+L17+N17+P17+R17) -> 0
B20: Prüfungen, die von der BaFin beauftragt wurden | E20: =IF(Kalkulation!$J$3=0,0,Kalkulation!C7) -> 0 | F20: =IF(Kalkulation!$J$3=0,0,Kalkulation!C14) -> 0 | G20: =IF(Kalkulation!$J$3=0,0,Kalkulation!D7) -> 0 | H20: =IF(Kalkulation!$J$3=0,0,Kalkulation!D14) -> 0 | I20: =IF(Kalkulation!$J$3=0,0,Kalkulation!E7) -> 0 | J20: =IF(Kalkulation!$J$3=0,0,Kalkulation!E14) -> 0 | K20: =IF(Kalkulation!$J$3=0,0,Kalkulation!F7) -> 0 | L20: =IF(Kalkulation!$J$3=0,0,Kalkulation!F14) -> 0 | M20: =IF(Kalkulation!$J$3=0,0,Kalkulation!G7) -> 0 | N20: =IF(Kalkulation!$J$3=0,0,Kalkulation!G14) -> 0 | O20: =IF(Kalkulation!$J$3=0,0,Kalkulation!H7) -> 0 | P20: =IF(Kalkulation!$J$3=0,0,Kalkulation!H14) -> 0 | Q20: =IF(Kalkulation!$J$3=0,0,Kalkulation!I7) -> 0 | R20: =IF(Kalkulation!$J$3=0,0,Kalkulation!I14) -> 0 | S20: =SUM(E20+G20+I20+K20+M20+O20+Q20) -> 0 | T20: =SUM(E20+H20+J20+L20+N20+P20+R20) -> 0
B22: davon noch nicht abgeschlossen | E22: =IF(Kalkulation!$J$3=0,0,Kalkulation!C21) -> 0 | F22: =IF(Kalkulation!$J$3=0,0,Kalkulation!C28) -> 0 | G22: =IF(Kalkulation!$J$3=0,0,Kalkulation!D21) -> 0 | H22: =IF(Kalkulation!$J$3=0,0,Kalkulation!D28) -> 0 | I22: =IF(Kalkulation!$J$3=0,0,Kalkulation!E21) -> 0 | J22: =IF(Kalkulation!$J$3=0,0,Kalkulation!E28) -> 0 | K22: =IF(Kalkulation!$J$3=0,0,Kalkulation!F21) -> 0 | L22: =IF(Kalkulation!$J$3=0,0,Kalkulation!F28) -> 0 | M22: =IF(Kalkulation!$J$3=0,0,Kalkulation!G21) -> 0 | N22: =IF(Kalkulation!$J$3=0,0,Kalkulation!G28) -> 0 | O22: =IF(Kalkulation!$J$3=0,0,Kalkulation!H21) -> 0 | P22: =IF(Kalkulation!$J$3=0,0,Kalkulation!H28) -> 0 | Q22: =IF(Kalkulation!$J$3=0,0,Kalkulation!I21) -> 0 | R22: =IF(Kalkulation!$J$3=0,0,Kalkulation!I28) -> 0 | S22: =SUM(E22+G22+I22+K22+M22+O22+Q22) -> 0 | T22: =SUM(E22+H22+J22+L22+N22+P22+R22) -> 0
B25: Gesamt | E25: =SUM(E10+E15+E20) -> 0 | F25: =SUM(F10+F15+F20) -> 0 | G25: =SUM(G10+G15+G20) -> 0 | H25: =SUM(H10+H15+H20) -> 0 | I25: =SUM(I10+I15+I20) -> 0 | J25: =SUM(J10+J15+J20) -> 0 | K25: =SUM(K10+K15+K20) -> 0 | L25: =SUM(L10+L15+L20) -> 0 | ... T25: =SUM(T10+T15+T20) -> 0
B27: nachrichtlich:
B28: davon unterlagen der Nachschau (Anzahl) | E28: =Kalkulation!C31 -> 0 | G28: =Kalkulation!D31 -> 0 | I28: =Kalkulation!E31 -> 0 | K28: =Kalkulation!F31 -> 0 | M28: =Kalkulation!G31 -> 0 | O28: =Kalkulation!H31 -> 0 | Q28: =Kalkulation!I31 -> 0 | S28: =SUM(E28:R28) -> 0
B30: Zeitaufwand der Praxis für diese Nachschauen (h) | E30: =Kalkulation!C45 -> 0 | G30: =Kalkulation!D45 -> 0 | I30: =Kalkulation!E45 -> 0 | K30: =Kalkulation!F45 -> 0 | M30: =Kalkulation!G45 -> 0 | O30: =Kalkulation!H45 -> 0 | Q30: =Kalkulation!I45 -> 0 | S30: =SUM(E30:R30) -> 0
B32: Summe der Umsatzerlöse (in TEUR) | E32: =Kalkulation!C52 -> 0 | G32: =Kalkulation!D52 -> 0 | I32: =Kalkulation!E52 -> 0 | K32: =Kalkulation!F52 -> 0 | M32: =Kalkulation!G52 -> 0 | O32: =Kalkulation!H52 -> 0 | Q32: =Kalkulation!I52 -> 0 | S32: =SUM(E32:R32) -> 0
B35: * Prüfungen nach § 316a HGB sind nicht in die Grundgesamtheit aufzunehmen.

Sheet Kalkulation
B1: Hilfstabelle zur Kalkulation der Werte in Anlage 4, falls Anlage 3 ausgefüllt wird.
C2: ='2_Grundgesamtheit'!E6 -> 20xx | D2: ='2_Grundgesamtheit'!G6 -> 20xx | E2: ='2_Grundgesamtheit'!I6 -> 20xx | F2: ='2_Grundgesamtheit'!K6 -> 20xx | G2: ='2_Grundgesamtheit'!M6 -> 20xx | H2: ='2_Grundgesamtheit'!O6 -> 20xx | I2: ='2_Grundgesamtheit'!Q6 -> 20xx | J2: Summe | L2: Prüfungsart | N2: Rechtsform
B3: Anzahl Gesamt | C3: =COUNTIF('3_Auftragsauswahl'!10:10,'4_Ausgewählte Aufträge'!E6) -> 0 | D3: =COUNTIF('3_Auftragsauswahl'!10:10,'4_Ausgewählte Aufträge'!G6) -> 0 | E3: =COUNTIF('3_Auftragsauswahl'!10:10,'4_Ausgewählte Aufträge'!I6) -> 0 | F3: =COUNTIF('3_Auftragsauswahl'!10:10,'4_Ausgewählte Aufträge'!K6) -> 0 | G3: =COUNTIF('3_Auftragsauswahl'!10:10,'4_Ausgewählte Aufträge'!M6) -> 0 | H3: =COUNTIF('3_Auftragsauswahl'!10:10,'4_Ausgewählte Aufträge'!O6) -> 0 | I3: =COUNTIF('3_Auftragsauswahl'!10:10,'4_Ausgewählte Aufträge'!Q6) -> 0 | J3: =SUM(C3:I3) -> 0 | L3: JAP | N3: GmbH
L4: KAP | N4: GmbH & Co. KG
B5: Anzahl JAP | C5: {=SUMPRODUCT(('3_Auftragsauswahl'!10:10=Kalkulation!C2)*('3_Auftragsauswahl'!9:9=$L$3))} -> 0 | D5: {=SUMPRODUCT(('3_Auftragsauswahl'!10:10=Kalkulation!D2)*('3_Auftragsauswahl'!9:9=$L$3))} -> 0 | E5: {=SUMPRODUCT(('3_Auftragsauswahl'!10:10=Kalkulation!E2)*('3_Auftragsauswahl'!9:9=$L$3))} -> 0 | F5: {=SUMPRODUCT(('3_Auftragsauswahl'!10:10=Kalkulation!F2)*('3_Auftragsauswahl'!9:9=$L$3))} -> 0 | G5: {=SUMPRODUCT(('3_Auftragsauswahl'!10:10=Kalkulation!G2)*('3_Auftragsauswahl'!9:9=$L$3))} -> 0 | H5: {=SUMPRODUCT(('3_Auftragsauswahl'!10:10=Kalkulation!H2)*('3_Auftragsauswahl'!9:9=$L$3))} -> 0 | I5: {=SUMPRODUCT(('3_Auftragsauswahl'!10:10=Kalkulation!I2)*('3_Auftragsauswahl'!9:9=$L$3))} -> 0 | J5: =SUM(C5:I5) -> 0 | L5: BaFin | N5: AG
B6: Anzahl KAP | C6: {=SUMPRODUCT(('3_Auftragsauswahl'!10:10=Kalkulation!C2)*('3_Auftragsauswahl'!9:9=$L$4))} -> 0 | D6: {=SUMPRODUCT(('3_Auftragsauswahl'!10:10=Kalkulation!D2)*('3_Auftragsauswahl'!9:9=$L$4))} -> 0 | E6: {=SUMPRODUCT(('3_Auftragsauswahl'!10:10=Kalkulation!E2)*('3_Auftragsauswahl'!9:9=$L$4))} -> 0 | F6: {=SUMPRODUCT(('3_Auftragsauswahl'!10:10=Kalkulation!F2)*('3_Auftragsauswahl'!9:9=$L$4))} -> 0 | G6: {=SUMPRODUCT(('3_Auftragsauswahl'!10:10=Kalkulation!G2)*('3_Auftragsauswahl'!9:9=$L$4))} -> 0 | H6: {=SUMPRODUCT(('3_Auftragsauswahl'!10:10=Kalkulation!H2)*('3_Auftragsauswahl'!9:9=$L$4))} -> 0 | I6: {=SUMPRODUCT(('3_Auftragsauswahl'!10:10=Kalkulation!I2)*('3_Auftragsauswahl'!9:9=$L$4))} -> 0 | J6: =SUM(C6:I6) -> 0 | N6: gGmbH
B7: Anzahl BaFin | C7: {=SUMPRODUCT(('3_Auftragsauswahl'!10:10=Kalkulation!C2)*('3_Auftragsauswahl'!9:9=$L$5))} -> 0 | D7: {=SUMPRODUCT(('3_Auftragsauswahl'!10:10=Kalkulation!D2)*('3_Auftragsauswahl'!9:9=$L$5))} -> 0 | E7: {=SUMPRODUCT(('3_Auftragsauswahl'!10:10=Kalkulation!E2)*('3_Auftragsauswahl'!9:9=$L$5))} -> 0 | F7: {=SUMPRODUCT(('3_Auftragsauswahl'!10:10=Kalkulation!F2)*('3_Auftragsauswahl'!9:9=$L$5))} -> 0 | G7: {=SUMPRODUCT(('3_Auftragsauswahl'!10:10=Kalkulation!G2)*('3_Auftragsauswahl'!9:9=$L$5))} -> 0 | H7: {=SUMPRODUCT(('3_Auftragsauswahl'!10:10=Kalkulation!H2)*('3_Auftragsauswahl'!9:9=$L$5))} -> 0 | I7: {=SUMPRODUCT(('3_Auftragsauswahl'!10:10=Kalkulation!I2)*('3_Auftragsauswahl'!9:9=$L$5))} -> 0 | J7: =SUM(C7:I7) -> 0 | N7: UG (haftungsbeschränkt)
N8: KG
C9: =C2 -> 20xx | D9: =D2 -> 20xx | E9: =E2 -> 20xx | F9: =F2 -> 20xx | G9: =G2 -> 20xx | H9: =H2 -> 20xx | I9: =I2 -> 20xx | J9: Summe | N9: OHG
B10: Prüferstunden Gesamt | C10: =SUMIFS('3_Auftragsauswahl'!15:15,'3_Auftragsauswahl'!10:10,Kalkulation!C2) -> 0 | D10: =SUMIFS('3_Auftragsauswahl'!15:15,'3_Auftragsauswahl'!10:10,Kalkulation!D2) -> 0 | E10: =SUMIFS('3_Auftragsauswahl'!15:15,'3_Auftragsauswahl'!10:10,Kalkulation!E2) -> 0 | F10: =SUMIFS('3_Auftragsauswahl'!15:15,'3_Auftragsauswahl'!10:10,Kalkulation!F2) -> 0 | G10: =SUMIFS('3_Auftragsauswahl'!15:15,'3_Auftragsauswahl'!10:10,Kalkulation!G2) -> 0 | H10: =SUMIFS('3_Auftragsauswahl'!15:15,'3_Auftragsauswahl'!10:10,Kalkulation!H2) -> 0 | I10: =SUMIFS('3_Auftragsauswahl'!15:15,'3_Auftragsauswahl'!10:10,Kalkulation!I2) -> 0 | J10: =SUM(C10:I10) -> 0 | N10: KGaA
N11: SE
B12: Prüferstunden JAP | C12: =SUMIFS('3_Auftragsauswahl'!15:15,'3_Auftragsauswahl'!10:10,Kalkulation!C2,'3_Auftragsauswahl'!9:9,Kalkulation!$L$3) -> 0 | D12: =SUMIFS('3_Auftragsauswahl'!15:15,'3_Auftragsauswahl'!10:10,Kalkulation!D2,'3_Auftragsauswahl'!9:9,Kalkulation!$L$3) -> 0 | E12: =SUMIFS('3_Auftragsauswahl'!15:15,'3_Auftragsauswahl'!10:10,Kalkulation!E2,'3_Auftragsauswahl'!9:9,Kalkulation!$L$3) -> 0 | F12: =SUMIFS('3_Auftragsauswahl'!15:15,'3_Auftragsauswahl'!10:10,Kalkulation!F2,'3_Auftragsauswahl'!9:9,Kalkulation!$L$3) -> 0 | G12: =SUMIFS('3_Auftragsauswahl'!15:15,'3_Auftragsauswahl'!10:10,Kalkulation!G2,'3_Auftragsauswahl'!9:9,Kalkulation!$L$3) -> 0 | H12: =SUMIFS('3_Auftragsauswahl'!15:15,'3_Auftragsauswahl'!10:10,Kalkulation!H2,'3_Auftragsauswahl'!9:9,Kalkulation!$L$3) -> 0 | I12: =SUMIFS('3_Auftragsauswahl'!15:15,'3_Auftragsauswahl'!10:10,Kalkulation!I2,'3_Auftragsauswahl'!9:9,Kalkulation!$L$3) -> 0 | J12: =SUM(C12:I12) -> 0
B13: Prüferstunden KAP | C13: =SUMIFS('3_Auftragsauswahl'!15:15,'3_Auftragsauswahl'!10:10,Kalkulation!C2,'3_Auftragsauswahl'!9:9,Kalkulation!$L$4) -> 0 | D13: =SUMIFS('3_Auftragsauswahl'!15:15,'3_Auftragsauswahl'!10:10,Kalkulation!D2,'3_Auftragsauswahl'!9:9,Kalkulation!$L$4) -> 0 | E13: =SUMIFS('3_Auftragsauswahl'!15:15,'3_Auftragsauswahl'!10:10,Kalkulation!E2,'3_Auftragsauswahl'!9:9,Kalkulation!$L$4) -> 0 | F13: =SUMIFS('3_Auftragsauswahl'!15:15,'3_Auftragsauswahl'!10:10,Kalkulation!F2,'3_Auftragsauswahl'!9:9,Kalkulation!$L$4) -> 0 | G13: =SUMIFS('3_Auftragsauswahl'!15:15,'3_Auftragsauswahl'!10:10,Kalkulation!G2,'3_Auftragsauswahl'!9:9,Kalkulation!$L$4) -> 0 | H13: =SUMIFS('3_Auftragsauswahl'!15:15,'3_Auftragsauswahl'!10:10,Kalkulation!H2,'3_Auftragsauswahl'!9:9,Kalkulation!$L$4) -> 0 | I13: =SUMIFS('3_Auftragsauswahl'!15:15,'3_Auftragsauswahl'!10:10,Kalkulation!I2,'3_Auftragsauswahl'!9:9,Kalkulation!$L$4) -> 0 | J13: =SUM(C13:I13) -> 0
B14: Prüferstunden BaFin | C14: =SUMIFS('3_Auftragsauswahl'!15:15,'3_Auftragsauswahl'!10:10,Kalkulation!C2,'3_Auftragsauswahl'!9:9,Kalkulation!$L$5) -> 0 | D14: =SUMIFS('3_Auftragsauswahl'!15:15,'3_Auftragsauswahl'!10:10,Kalkulation!D2,'3_Auftragsauswahl'!9:9,Kalkulation!$L$5) -> 0 | E14: =SUMIFS('3_Auftragsauswahl'!15:15,'3_Auftragsauswahl'!10:10,Kalkulation!E2,'3_Auftragsauswahl'!9:9,Kalkulation!$L$5) -> 0 | F14: =SUMIFS('3_Auftragsauswahl'!15:15,'3_Auftragsauswahl'!10:10,Kalkulation!F2,'3_Auftragsauswahl'!9:9,Kalkulation!$L$5) -> 0 | G14: =SUMIFS('3_Auftragsauswahl'!15:15,'3_Auftragsauswahl'!10:10,Kalkulation!G2,'3_Auftragsauswahl'!9:9,Kalkulation!$L$5) -> 0 | H14: =SUMIFS('3_Auftragsauswahl'!15:15,'3_Auftragsauswahl'!10:10,Kalkulation!H2,'3_Auftragsauswahl'!9:9,Kalkulation!$L$5) -> 0 | I14: =SUMIFS('3_Auftragsauswahl'!15:15,'3_Auftragsauswahl'!10:10,Kalkulation!I2,'3_Auftragsauswahl'!9:9,Kalkulation!$L$5) -> 0 | J14: =SUM(C14:I14) -> 0
B16: Anzahl | C16: =C2 -> 20xx | D16: =D2 -> 20xx | E16: =E2 -> 20xx | F16: =F2 -> 20xx | G16: =G2 -> 20xx | H16: =H2 -> 20xx | I16: =I2 -> 20xx | J16: Summe
B17: davon: nicht abgeschlossen | C17: {=SUMPRODUCT(('3_Auftragsauswahl'!10:10=Kalkulation!C16)*('3_Auftragsauswahl'!12:12<>"x"))} -> 0 | D17: {=SUMPRODUCT(('3_Auftragsauswahl'!10:10=Kalkulation!D16)*('3_Auftragsauswahl'!12:12<>"x"))} -> 0 | E17: {=SUMPRODUCT(('3_Auftragsauswahl'!10:10=Kalkulation!E16)*('3_Auftragsauswahl'!12:12<>"x"))} -> 0 | F17: {=SUMPRODUCT(('3_Auftragsauswahl'!10:10=Kalkulation!F16)*('3_Auftragsauswahl'!12:12<>"x"))} -> 0 | G17: {=SUMPRODUCT(('3_Auftragsauswahl'!10:10=Kalkulation!G16)*('3_Auftragsauswahl'!12:12<>"x"))} -> 0 | H17: {=SUMPRODUCT(('3_Auftragsauswahl'!10:10=Kalkulation!H16)*('3_Auftragsauswahl'!12:12<>"x"))} -> 0 | I17: {=SUMPRODUCT(('3_Auftragsauswahl'!10:10=Kalkulation!I16)*('3_Auftragsauswahl'!12:12<>"x"))} -> 0 | J17: =SUM(C17:I17) -> 0
B19: davon: nicht abgeschlossen JAP | C19: {=SUMPRODUCT(('3_Auftragsauswahl'!10:10=Kalkulation!C16)*('3_Auftragsauswahl'!9:9=$L$3)*('3_Auftragsauswahl'!12:12<>"x"))} -> 0 | D19: {=SUMPRODUCT(('3_Auftragsauswahl'!10:10=Kalkulation!D16)*('3_Auftragsauswahl'!9:9=$L$3)*('3_Auftragsauswahl'!12:12<>"x"))} -> 0 | E19: {=SUMPRODUCT(('3_Auftragsauswahl'!10:10=Kalkulation!E16)*('3_Auftragsauswahl'!9:9=$L$3)*('3_Auftragsauswahl'!12:12<>"x"))} -> 0 | F19: {=SUMPRODUCT(('3_Auftragsauswahl'!10:10=Kalkulation!F16)*('3_Auftragsauswahl'!9:9=$L$3)*('3_Auftragsauswahl'!12:12<>"x"))} -> 0 | G19: {=SUMPRODUCT(('3_Auftragsauswahl'!10:10=Kalkulation!G16)*('3_Auftragsauswahl'!9:9=$L$3)*('3_Auftragsauswahl'!12:12<>"x"))} -> 0 | H19: {=SUMPRODUCT(('3_Auftragsauswahl'!10:10=Kalkulation!H16)*('3_Auftragsauswahl'!9:9=$L$3)*('3_Auftragsauswahl'!12:12<>"x"))} -> 0 | I19: {=SUMPRODUCT(('3_Auftragsauswahl'!10:10=Kalkulation!I16)*('3_Auftragsauswahl'!9:9=$L$3)*('3_Auftragsauswahl'!12:12<>"x"))} -> 0 | J19: =SUM(C19:I19) -> 0
B20: davon: nicht abgeschlossen KAP | C20: {=SUMPRODUCT(('3_Auftragsauswahl'!10:10=Kalkulation!C16)*('3_Auftragsauswahl'!9:9=$L$4)*('3_Auftragsauswahl'!12:12<>"x"))} -> 0 | D20: {=SUMPRODUCT(('3_Auftragsauswahl'!10:10=Kalkulation!D16)*('3_Auftragsauswahl'!9:9=$L$4)*('3_Auftragsauswahl'!12:12<>"x"))} -> 0 | E20: {=SUMPRODUCT(('3_Auftragsauswahl'!10:10=Kalkulation!E16)*('3_Auftragsauswahl'!9:9=$L$4)*('3_Auftragsauswahl'!12:12<>"x"))} -> 0 | F20: {=SUMPRODUCT(('3_Auftragsauswahl'!10:10=Kalkulation!F16)*('3_Auftragsauswahl'!9:9=$L$4)*('3_Auftragsauswahl'!12:12<>"x"))} -> 0 | G20: {=SUMPRODUCT(('3_Auftragsauswahl'!10:10=Kalkulation!G16)*('3_Auftragsauswahl'!9:9=$L$4)*('3_Auftragsauswahl'!12:12<>"x"))} -> 0 | H20: {=SUMPRODUCT(('3_Auftragsauswahl'!10:10=Kalkulation!H16)*('3_Auftragsauswahl'!9:9=$L$4)*('3_Auftragsauswahl'!12:12<>"x"))} -> 0 | I20: {=SUMPRODUCT(('3_Auftragsauswahl'!10:10=Kalkulation!I16)*('3_Auftragsauswahl'!9:9=$L$4)*('3_Auftragsauswahl'!12:12<>"x"))} -> 0 | J20: =SUM(C20:I20) -> 0
B21: davon: nicht abgeschlossen BaFin | C21: {=SUMPRODUCT(('3_Auftragsauswahl'!10:10=Kalkulation!C16)*('3_Auftragsauswahl'!9:9=$L$5)*('3_Auftragsauswahl'!12:12<>"x"))} -> 0 | D21: {=SUMPRODUCT(('3_Auftragsauswahl'!10:10=Kalkulation!D16)*('3_Auftragsauswahl'!9:9=$L$5)*('3_Auftragsauswahl'!12:12<>"x"))} -> 0 | E21: {=SUMPRODUCT(('3_Auftragsauswahl'!10:10=Kalkulation!E16)*('3_Auftragsauswahl'!9:9=$L$5)*('3_Auftragsauswahl'!12:12<>"x"))} -> 0 | F21: {=SUMPRODUCT(('3_Auftragsauswahl'!10:10=Kalkulation!F16)*('3_Auftragsauswahl'!9:9=$L$5)*('3_Auftragsauswahl'!12:12<>"x"))} -> 0 | G21: {=SUMPRODUCT(('3_Auftragsauswahl'!10:10=Kalkulation!G16)*('3_Auftragsauswahl'!9:9=$L$5)*('3_Auftragsauswahl'!12:12<>"x"))} -> 0 | H21: {=SUMPRODUCT(('3_Auftragsauswahl'!10:10=Kalkulation!H16)*('3_Auftragsauswahl'!9:9=$L$5)*('3_Auftragsauswahl'!12:12<>"x"))} -> 0 | I21: {=SUMPRODUCT(('3_Auftragsauswahl'!10:10=Kalkulation!I16)*('3_Auftragsauswahl'!9:9=$L$5)*('3_Auftragsauswahl'!12:12<>"x"))} -> 0 | J21: =SUM(C21:I21) -> 0
B23: Prüferstunden | C23: =C2 -> 20xx | D23: =D2 -> 20xx | E23: =E2 -> 20xx | F23: =F2 -> 20xx | G23: =G2 -> 20xx | H23: =H2 -> 20xx | I23: =I2 -> 20xx
B24: davon: nicht abgeschlossen | C24: =SUMIFS('3_Auftragsauswahl'!15:15,'3_Auftragsauswahl'!10:10,Kalkulation!C16,'3_Auftragsauswahl'!12:12,"<>x") -> 0 | D24: =SUMIFS('3_Auftragsauswahl'!15:15,'3_Auftragsauswahl'!10:10,Kalkulation!D16,'3_Auftragsauswahl'!12:12,"<>x") -> 0 | E24: =SUMIFS('3_Auftragsauswahl'!15:15,'3_Auftragsauswahl'!10:10,Kalkulation!E16,'3_Auftragsauswahl'!12:12,"<>x") -> 0 | F24: =SUMIFS('3_Auftragsauswahl'!15:15,'3_Auftragsauswahl'!10:10,Kalkulation!F16,'3_Auftragsauswahl'!12:12,"<>x") -> 0 | G24: =SUMIFS('3_Auftragsauswahl'!15:15,'3_Auftragsauswahl'!10:10,Kalkulation!G16,'3_Auftragsauswahl'!12:12,"<>x") -> 0 | H24: =SUMIFS('3_Auftragsauswahl'!15:15,'3_Auftragsauswahl'!10:10,Kalkulation!H16,'3_Auftragsauswahl'!12:12,"<>x") -> 0 | I24: =SUMIFS('3_Auftragsauswahl'!15:15,'3_Auftragsauswahl'!10:10,Kalkulation!I16,'3_Auftragsauswahl'!12:12,"<>x") -> 0 | J24: =SUM(C24:I24) -> 0
B26: davon: nicht abgeschlossen JAP | C26: =SUMIFS('3_Auftragsauswahl'!15:15,'3_Auftragsauswahl'!10:10,Kalkulation!C16,'3_Auftragsauswahl'!9:9,Kalkulation!$L$3,'3_Auftragsauswahl'!12:12,"<>x") -> 0 | D26: =SUMIFS('3_Auftragsauswahl'!15:15,'3_Auftragsauswahl'!10:10,Kalkulation!D16,'3_Auftragsauswahl'!9:9,Kalkulation!$L$3,'3_Auftragsauswahl'!12:12,"<>x") -> 0 | E26: =SUMIFS('3_Auftragsauswahl'!15:15,'3_Auftragsauswahl'!10:10,Kalkulation!E16,'3_Auftragsauswahl'!9:9,Kalkulation!$L$3,'3_Auftragsauswahl'!12:12,"<>x") -> 0 | F26: =SUMIFS('3_Auftragsauswahl'!15:15,'3_Auftragsauswahl'!10:10,Kalkulation!F16,'3_Auftragsauswahl'!9:9,Kalkulation!$L$3,'3_Auftragsauswahl'!12:12,"<>x") -> 0 | G26: =SUMIFS('3_Auftragsauswahl'!15:15,'3_Auftragsauswahl'!10:10,Kalkulation!G16,'3_Auftragsauswahl'!9:9,Kalkulation!$L$3,'3_Auftragsauswahl'!12:12,"<>x") -> 0 | H26: =SUMIFS('3_Auftragsauswahl'!15:15,'3_Auftragsauswahl'!10:10,Kalkulation!H16,'3_Auftragsauswahl'!9:9,Kalkulation!$L$3,'3_Auftragsauswahl'!12:12,"<>x") -> 0 | I26: =SUMIFS('3_Auftragsauswahl'!15:15,'3_Auftragsauswahl'!10:10,Kalkulation!I16,'3_Auftragsauswahl'!9:9,Kalkulation!$L$3,'3_Auftragsauswahl'!12:12,"<>x") -> 0 | J26: =SUM(C26:I26) -> 0
B27: davon: nicht abgeschlossen KAP | C27: =SUMIFS('3_Auftragsauswahl'!15:15,'3_Auftragsauswahl'!10:10,Kalkulation!C16,'3_Auftragsauswahl'!9:9,Kalkulation!$L$4,'3_Auftragsauswahl'!12:12,"<>x") -> 0 | D27: =SUMIFS('3_Auftragsauswahl'!15:15,'3_Auftragsauswahl'!10:10,Kalkulation!D16,'3_Auftragsauswahl'!9:9,Kalkulation!$L$4,'3_Auftragsauswahl'!12:12,"<>x") -> 0 | E27: =SUMIFS('3_Auftragsauswahl'!15:15,'3_Auftragsauswahl'!10:10,Kalkulation!E16,'3_Auftragsauswahl'!9:9,Kalkulation!$L$4,'3_Auftragsauswahl'!12:12,"<>x") -> 0 | F27: =SUMIFS('3_Auftragsauswahl'!15:15,'3_Auftragsauswahl'!10:10,Kalkulation!F16,'3_Auftragsauswahl'!9:9,Kalkulation!$L$4,'3_Auftragsauswahl'!12:12,"<>x") -> 0 | G27: =SUMIFS('3_Auftragsauswahl'!15:15,'3_Auftragsauswahl'!10:10,Kalkulation!G16,'3_Auftragsauswahl'!9:9,Kalkulation!$L$4,'3_Auftragsauswahl'!12:12,"<>x") -> 0 | H27: =SUMIFS('3_Auftragsauswahl'!15:15,'3_Auftragsauswahl'!10:10,Kalkulation!H16,'3_Auftragsauswahl'!9:9,Kalkulation!$L$4,'3_Auftragsauswahl'!12:12,"<>x") -> 0 | I27: =SUMIFS('3_Auftragsauswahl'!15:15,'3_Auftragsauswahl'!10:10,Kalkulation!I16,'3_Auftragsauswahl'!9:9,Kalkulation!$L$4,'3_Auftragsauswahl'!12:12,"<>x") -> 0 | J27: =SUM(C27:I27) -> 0
B28: davon: nicht abgeschlossen BaFin | C28: =SUMIFS('3_Auftragsauswahl'!15:15,'3_Auftragsauswahl'!10:10,Kalkulation!C16,'3_Auftragsauswahl'!9:9,Kalkulation!$L$5,'3_Auftragsauswahl'!12:12,"<>x") -> 0 | D28: =SUMIFS('3_Auftragsauswahl'!15:15,'3_Auftragsauswahl'!10:10,Kalkulation!D16,'3_Auftragsauswahl'!9:9,Kalkulation!$L$5,'3_Auftragsauswahl'!12:12,"<>x") -> 0 | E28: =SUMIFS('3_Auftragsauswahl'!15:15,'3_Auftragsauswahl'!10:10,Kalkulation!E16,'3_Auftragsauswahl'!9:9,Kalkulation!$L$5,'3_Auftragsauswahl'!12:12,"<>x") -> 0 | F28: =SUMIFS('3_Auftragsauswahl'!15:15,'3_Auftragsauswahl'!10:10,Kalkulation!F16,'3_Auftragsauswahl'!9:9,Kalkulation!$L$5,'3_Auftragsauswahl'!12:12,"<>x") -> 0 | G28: =SUMIFS('3_Auftragsauswahl'!15:15,'3_Auftragsauswahl'!10:10,Kalkulation!G16,'3_Auftragsauswahl'!9:9,Kalkulation!$L$5,'3_Auftragsauswahl'!12:12,"<>x") -> 0 | H28: =SUMIFS('3_Auftragsauswahl'!15:15,'3_Auftragsauswahl'!10:10,Kalkulation!H16,'3_Auftragsauswahl'!9:9,Kalkulation!$L$5,'3_Auftragsauswahl'!12:12,"<>x") -> 0 | I28: =SUMIFS('3_Auftragsauswahl'!15:15,'3_Auftragsauswahl'!10:10,Kalkulation!I16,'3_Auftragsauswahl'!9:9,Kalkulation!$L$5,'3_Auftragsauswahl'!12:12,"<>x") -> 0 | J28: =SUM(C28:I28) -> 0
B30: Anzahl | C30: =C2 -> 20xx | D30: =D2 -> 20xx | E30: =E2 -> 20xx | F30: =F2 -> 20xx | G30: =G2 -> 20xx | H30: =H2 -> 20xx | I30: =I2 -> 20xx
B31: davon: unterlag der Nachschau | C31: {=SUMPRODUCT(('3_Auftragsauswahl'!10:10=Kalkulation!C16)*('3_Auftragsauswahl'!13:13="x"))} -> 0 | D31: {=SUMPRODUCT(('3_Auftragsauswahl'!10:10=Kalkulation!D16)*('3_Auftragsauswahl'!13:13="x"))} -> 0 | E31: {=SUMPRODUCT(('3_Auftragsauswahl'!10:10=Kalkulation!E16)*('3_Auftragsauswahl'!13:13="x"))} -> 0 | F31: {=SUMPRODUCT(('3_Auftragsauswahl'!10:10=Kalkulation!F16)*('3_Auftragsauswahl'!13:13="x"))} -> 0 | G31: {=SUMPRODUCT(('3_Auftragsauswahl'!10:10=Kalkulation!G16)*('3_Auftragsauswahl'!13:13="x"))} -> 0 | H31: {=SUMPRODUCT(('3_Auftragsauswahl'!10:10=Kalkulation!H16)*('3_Auftragsauswahl'!13:13="x"))} -> 0 | I31: {=SUMPRODUCT(('3_Auftragsauswahl'!10:10=Kalkulation!I16)*('3_Auftragsauswahl'!13:13="x"))} -> 0 | J31: =SUM(C31:I31) -> 0
B33: davon: unterlag der Nachschau JAP | C33: {=SUMPRODUCT(('3_Auftragsauswahl'!10:10=Kalkulation!C16)*('3_Auftragsauswahl'!9:9=$L$3)*('3_Auftragsauswahl'!13:13="x"))} -> 0 | D33: {=SUMPRODUCT(('3_Auftragsauswahl'!10:10=Kalkulation!D16)*('3_Auftragsauswahl'!9:9=$L$3)*('3_Auftragsauswahl'!13:13="x"))} -> 0 | E33: {=SUMPRODUCT(('3_Auftragsauswahl'!10:10=Kalkulation!E16)*('3_Auftragsauswahl'!9:9=$L$3)*('3_Auftragsauswahl'!13:13="x"))} -> 0 | F33: {=SUMPRODUCT(('3_Auftragsauswahl'!10:10=Kalkulation!F16)*('3_Auftragsauswahl'!9:9=$L$3)*('3_Auftragsauswahl'!13:13="x"))} -> 0 | G33: {=SUMPRODUCT(('3_Auftragsauswahl'!10:10=Kalkulation!G16)*('3_Auftragsauswahl'!9:9=$L$3)*('3_Auftragsauswahl'!13:13="x"))} -> 0 | H33: {=SUMPRODUCT(('3_Auftragsauswahl'!10:10=Kalkulation!H16)*('3_Auftragsauswahl'!9:9=$L$3)*('3_Auftragsauswahl'!13:13="x"))} -> 0 | I33: {=SUMPRODUCT(('3_Auftragsauswahl'!10:10=Kalkulation!I16)*('3_Auftragsauswahl'!9:9=$L$3)*('3_Auftragsauswahl'!13:13="x"))} -> 0 | J33: =SUM(C33:I33) -> 0
B34: davon: unterlag der Nachschau KAP | C34: {=SUMPRODUCT(('3_Auftragsauswahl'!10:10=Kalkulation!C16)*('3_Auftragsauswahl'!9:9=$L$4)*('3_Auftragsauswahl'!13:13="x"))} -> 0 | D34: {=SUMPRODUCT(('3_Auftragsauswahl'!10:10=Kalkulation!D16)*('3_Auftragsauswahl'!9:9=$L$4)*('3_Auftragsauswahl'!13:13="x"))} -> 0 | E34: {=SUMPRODUCT(('3_Auftragsauswahl'!10:10=Kalkulation!E16)*('3_Auftragsauswahl'!9:9=$L$4)*('3_Auftragsauswahl'!13:13="x"))} -> 0 | F34: {=SUMPRODUCT(('3_Auftragsauswahl'!10:10=Kalkulation!F16)*('3_Auftragsauswahl'!9:9=$L$4)*('3_Auftragsauswahl'!13:13="x"))} -> 0 | G34: {=SUMPRODUCT(('3_Auftragsauswahl'!10:10=Kalkulation!G16)*('3_Auftragsauswahl'!9:9=$L$4)*('3_Auftragsauswahl'!13:13="x"))} -> 0 | H34: {=SUMPRODUCT(('3_Auftragsauswahl'!10:10=Kalkulation!H16)*('3_Auftragsauswahl'!9:9=$L$4)*('3_Auftragsauswahl'!13:13="x"))} -> 0 | I34: {=SUMPRODUCT(('3_Auftragsauswahl'!10:10=Kalkulation!I16)*('3_Auftragsauswahl'!9:9=$L$4)*('3_Auftragsauswahl'!13:13="x"))} -> 0 | J34: =SUM(C34:I34) -> 0
B35: davon: unterlag der Nachschau BaFin | C35: {=SUMPRODUCT(('3_Auftragsauswahl'!10:10=Kalkulation!C16)*('3_Auftragsauswahl'!9:9=$L$5)*('3_Auftragsauswahl'!13:13="x"))} -> 0 | D35: {=SUMPRODUCT(('3_Auftragsauswahl'!10:10=Kalkulation!D16)*('3_Auftragsauswahl'!9:9=$L$5)*('3_Auftragsauswahl'!13:13="x"))} -> 0 | E35: {=SUMPRODUCT(('3_Auftragsauswahl'!10:10=Kalkulation!E16)*('3_Auftragsauswahl'!9:9=$L$5)*('3_Auftragsauswahl'!13:13="x"))} -> 0 | F35: {=SUMPRODUCT(('3_Auftragsauswahl'!10:10=Kalkulation!F16)*('3_Auftragsauswahl'!9:9=$L$5)*('3_Auftragsauswahl'!13:13="x"))} -> 0 | G35: {=SUMPRODUCT(('3_Auftragsauswahl'!10:10=Kalkulation!G16)*('3_Auftragsauswahl'!9:9=$L$5)*('3_Auftragsauswahl'!13:13="x"))} -> 0 | H35: {=SUMPRODUCT(('3_Auftragsauswahl'!10:10=Kalkulation!H16)*('3_Auftragsauswahl'!9:9=$L$5)*('3_Auftragsauswahl'!13:13="x"))} -> 0 | I35: {=SUMPRODUCT(('3_Auftragsauswahl'!10:10=Kalkulation!I16)*('3_Auftragsauswahl'!9:9=$L$5)*('3_Auftragsauswahl'!13:13="x"))} -> 0 | J35: =SUM(C35:I35) -> 0
B37: Prüferstunden | C37: =C2 -> 20xx | D37: =D2 -> 20xx | E37: =E2 -> 20xx | F37: =F2 -> 20xx | G37: =G2 -> 20xx | H37: =H2 -> 20xx | I37: =I2 -> 20xx
B38: davon: unterlag der Nachschau | C38: =SUMIFS('3_Auftragsauswahl'!15:15,'3_Auftragsauswahl'!10:10,Kalkulation!C16,'3_Auftragsauswahl'!13:13,"=x") -> 0 | D38: =SUMIFS('3_Auftragsauswahl'!15:15,'3_Auftragsauswahl'!10:10,Kalkulation!D16,'3_Auftragsauswahl'!13:13,"=x") -> 0 | E38: =SUMIFS('3_Auftragsauswahl'!15:15,'3_Auftragsauswahl'!10:10,Kalkulation!E16,'3_Auftragsauswahl'!13:13,"=x") -> 0 | F38: =SUMIFS('3_Auftragsauswahl'!15:15,'3_Auftragsauswahl'!10:10,Kalkulation!F16,'3_Auftragsauswahl'!13:13,"=x") -> 0 | G38: =SUMIFS('3_Auftragsauswahl'!15:15,'3_Auftragsauswahl'!10:10,Kalkulation!G16,'3_Auftragsauswahl'!13:13,"=x") -> 0 | H38: =SUMIFS('3_Auftragsauswahl'!15:15,'3_Auftragsauswahl'!10:10,Kalkulation!H16,'3_Auftragsauswahl'!13:13,"=x") -> 0 | I38: =SUMIFS('3_Auftragsauswahl'!15:15,'3_Auftragsauswahl'!10:10,Kalkulation!I16,'3_Auftragsauswahl'!13:13,"=x") -> 0 | J38: =SUM(C38:I38) -> 0
B40: davon: unterlag der Nachschau JAP | C40: =SUMIFS('3_Auftragsauswahl'!15:15,'3_Auftragsauswahl'!10:10,Kalkulation!C16,'3_Auftragsauswahl'!9:9,Kalkulation!$L$3,'3_Auftragsauswahl'!13:13,"=x") -> 0 | D40: =SUMIFS('3_Auftragsauswahl'!15:15,'3_Auftragsauswahl'!10:10,Kalkulation!D16,'3_Auftragsauswahl'!9:9,Kalkulation!$L$3,'3_Auftragsauswahl'!13:13,"=x") -> 0 | E40: =SUMIFS('3_Auftragsauswahl'!15:15,'3_Auftragsauswahl'!10:10,Kalkulation!E16,'3_Auftragsauswahl'!9:9,Kalkulation!$L$3,'3_Auftragsauswahl'!13:13,"=x") -> 0 | F40: =SUMIFS('3_Auftragsauswahl'!15:15,'3_Auftragsauswahl'!10:10,Kalkulation!F16,'3_Auftragsauswahl'!9:9,Kalkulation!$L$3,'3_Auftragsauswahl'!13:13,"=x") -> 0 | G40: =SUMIFS('3_Auftragsauswahl'!15:15,'3_Auftragsauswahl'!10:10,Kalkulation!G16,'3_Auftragsauswahl'!9:9,Kalkulation!$L$3,'3_Auftragsauswahl'!13:13,"=x") -> 0 | H40: =SUMIFS('3_Auftragsauswahl'!15:15,'3_Auftragsauswahl'!10:10,Kalkulation!H16,'3_Auftragsauswahl'!9:9,Kalkulation!$L$3,'3_Auftragsauswahl'!13:13,"=x") -> 0 | I40: =SUMIFS('3_Auftragsauswahl'!15:15,'3_Auftragsauswahl'!10:10,Kalkulation!I16,'3_Auftragsauswahl'!9:9,Kalkulation!$L$3,'3_Auftragsauswahl'!13:13,"=x") -> 0 | J40: =SUM(C40:I40) -> 0
B41: davon: unterlag der Nachschau KAP | C41: =SUMIFS('3_Auftragsauswahl'!15:15,'3_Auftragsauswahl'!10:10,Kalkulation!C16,'3_Auftragsauswahl'!9:9,Kalkulation!$L$4,'3_Auftragsauswahl'!13:13,"=x") -> 0 | D41: =SUMIFS('3_Auftragsauswahl'!15:15,'3_Auftragsauswahl'!10:10,Kalkulation!D16,'3_Auftragsauswahl'!9:9,Kalkulation!$L$4,'3_Auftragsauswahl'!13:13,"=x") -> 0 | E41: =SUMIFS('3_Auftragsauswahl'!15:15,'3_Auftragsauswahl'!10:10,Kalkulation!E16,'3_Auftragsauswahl'!9:9,Kalkulation!$L$4,'3_Auftragsauswahl'!13:13,"=x") -> 0 | F41: =SUMIFS('3_Auftragsauswahl'!15:15,'3_Auftragsauswahl'!10:10,Kalkulation!F16,'3_Auftragsauswahl'!9:9,Kalkulation!$L$4,'3_Auftragsauswahl'!13:13,"=x") -> 0 | G41: =SUMIFS('3_Auftragsauswahl'!15:15,'3_Auftragsauswahl'!10:10,Kalkulation!G16,'3_Auftragsauswahl'!9:9,Kalkulation!$L$4,'3_Auftragsauswahl'!13:13,"=x") -> 0 | H41: =SUMIFS('3_Auftragsauswahl'!15:15,'3_Auftragsauswahl'!10:10,Kalkulation!H16,'3_Auftragsauswahl'!9:9,Kalkulation!$L$4,'3_Auftragsauswahl'!13:13,"=x") -> 0 | I41: =SUMIFS('3_Auftragsauswahl'!15:15,'3_Auftragsauswahl'!10:10,Kalkulation!I16,'3_Auftragsauswahl'!9:9,Kalkulation!$L$4,'3_Auftragsauswahl'!13:13,"=x") -> 0 | J41: =SUM(C41:I41) -> 0
B42: davon: unterlag der Nachschau BaFin | C42: =SUMIFS('3_Auftragsauswahl'!15:15,'3_Auftragsauswahl'!10:10,Kalkulation!C16,'3_Auftragsauswahl'!9:9,Kalkulation!$L$5,'3_Auftragsauswahl'!13:13,"=x") -> 0 | D42: =SUMIFS('3_Auftragsauswahl'!15:15,'3_Auftragsauswahl'!10:10,Kalkulation!D16,'3_Auftragsauswahl'!9:9,Kalkulation!$L$5,'3_Auftragsauswahl'!13:13,"=x") -> 0 | E42: =SUMIFS('3_Auftragsauswahl'!15:15,'3_Auftragsauswahl'!10:10,Kalkulation!E16,'3_Auftragsauswahl'!9:9,Kalkulation!$L$5,'3_Auftragsauswahl'!13:13,"=x") -> 0 | F42: =SUMIFS('3_Auftragsauswahl'!15:15,'3_Auftragsauswahl'!10:10,Kalkulation!F16,'3_Auftragsauswahl'!9:9,Kalkulation!$L$5,'3_Auftragsauswahl'!13:13,"=x") -> 0 | G42: =SUMIFS('3_Auftragsauswahl'!15:15,'3_Auftragsauswahl'!10:10,Kalkulation!G16,'3_Auftragsauswahl'!9:9,Kalkulation!$L$5,'3_Auftragsauswahl'!13:13,"=x") -> 0 | H42: =SUMIFS('3_Auftragsauswahl'!15:15,'3_Auftragsauswahl'!10:10,Kalkulation!H16,'3_Auftragsauswahl'!9:9,Kalkulation!$L$5,'3_Auftragsauswahl'!13:13,"=x") -> 0 | I42: =SUMIFS('3_Auftragsauswahl'!15:15,'3_Auftragsauswahl'!10:10,Kalkulation!I16,'3_Auftragsauswahl'!9:9,Kalkulation!$L$5,'3_Auftragsauswahl'!13:13,"=x") -> 0 | J42: =SUM(C42:I42) -> 0
B44: Prüferstunden Praxis für Nachschau | C44: =C2 -> 20xx | D44: =D2 -> 20xx | E44: =E2 -> 20xx | F44: =F2 -> 20xx | G44: =G2 -> 20xx | H44: =H2 -> 20xx | I44: =I2 -> 20xx
B45: Gesamt | C45: =SUMIFS('3_Auftragsauswahl'!14:14,'3_Auftragsauswahl'!10:10,Kalkulation!C23,'3_Auftragsauswahl'!13:13,"=x") -> 0 | D45: =SUMIFS('3_Auftragsauswahl'!14:14,'3_Auftragsauswahl'!10:10,Kalkulation!D23,'3_Auftragsauswahl'!13:13,"=x") -> 0 | E45: =SUMIFS('3_Auftragsauswahl'!14:14,'3_Auftragsauswahl'!10:10,Kalkulation!E23,'3_Auftragsauswahl'!13:13,"=x") -> 0 | F45: =SUMIFS('3_Auftragsauswahl'!14:14,'3_Auftragsauswahl'!10:10,Kalkulation!F23,'3_Auftragsauswahl'!13:13,"=x") -> 0 | G45: =SUMIFS('3_Auftragsauswahl'!14:14,'3_Auftragsauswahl'!10:10,Kalkulation!G23,'3_Auftragsauswahl'!13:13,"=x") -> 0 | H45: =SUMIFS('3_Auftragsauswahl'!14:14,'3_Auftragsauswahl'!10:10,Kalkulation!H23,'3_Auftragsauswahl'!13:13,"=x") -> 0 | I45: =SUMIFS('3_Auftragsauswahl'!14:14,'3_Auftragsauswahl'!10:10,Kalkulation!I23,'3_Auftragsauswahl'!13:13,"=x") -> 0 | J45: =SUM(C45:I45) -> 0
B47: Prüferstunden Nachschau JAP | C47: =SUMIFS('3_Auftragsauswahl'!14:14,'3_Auftragsauswahl'!10:10,Kalkulation!C23,'3_Auftragsauswahl'!9:9,Kalkulation!$L$3,'3_Auftragsauswahl'!13:13,"=x") -> 0 | D47: =SUMIFS('3_Auftragsauswahl'!14:14,'3_Auftragsauswahl'!10:10,Kalkulation!D23,'3_Auftragsauswahl'!9:9,Kalkulation!$L$3,'3_Auftragsauswahl'!13:13,"=x") -> 0 | E47: =SUMIFS('3_Auftragsauswahl'!14:14,'3_Auftragsauswahl'!10:10,Kalkulation!E23,'3_Auftragsauswahl'!9:9,Kalkulation!$L$3,'3_Auftragsauswahl'!13:13,"=x") -> 0 | F47: =SUMIFS('3_Auftragsauswahl'!14:14,'3_Auftragsauswahl'!10:10,Kalkulation!F23,'3_Auftragsauswahl'!9:9,Kalkulation!$L$3,'3_Auftragsauswahl'!13:13,"=x") -> 0 | G47: =SUMIFS('3_Auftragsauswahl'!14:14,'3_Auftragsauswahl'!10:10,Kalkulation!G23,'3_Auftragsauswahl'!9:9,Kalkulation!$L$3,'3_Auftragsauswahl'!13:13,"=x") -> 0 | H47: =SUMIFS('3_Auftragsauswahl'!14:14,'3_Auftragsauswahl'!10:10,Kalkulation!H23,'3_Auftragsauswahl'!9:9,Kalkulation!$L$3,'3_Auftragsauswahl'!13:13,"=x") -> 0 | I47: =SUMIFS('3_Auftragsauswahl'!14:14,'3_Auftragsauswahl'!10:10,Kalkulation!I23,'3_Auftragsauswahl'!9:9,Kalkulation!$L$3,'3_Auftragsauswahl'!13:13,"=x") -> 0 | J47: =SUM(C47:I47) -> 0
B48: Prüferstunden Nachschau KAP | C48: =SUMIFS('3_Auftragsauswahl'!14:14,'3_Auftragsauswahl'!10:10,Kalkulation!C23,'3_Auftragsauswahl'!9:9,Kalkulation!$L$4,'3_Auftragsauswahl'!13:13,"=x") -> 0 | D48: =SUMIFS('3_Auftragsauswahl'!14:14,'3_Auftragsauswahl'!10:10,Kalkulation!D23,'3_Auftragsauswahl'!9:9,Kalkulation!$L$4,'3_Auftragsauswahl'!13:13,"=x") -> 0 | E48: =SUMIFS('3_Auftragsauswahl'!14:14,'3_Auftragsauswahl'!10:10,Kalkulation!E23,'3_Auftragsauswahl'!9:9,Kalkulation!$L$4,'3_Auftragsauswahl'!13:13,"=x") -> 0 | F48: =SUMIFS('3_Auftragsauswahl'!14:14,'3_Auftragsauswahl'!10:10,Kalkulation!F23,'3_Auftragsauswahl'!9:9,Kalkulation!$L$4,'3_Auftragsauswahl'!13:13,"=x") -> 0 | G48: =SUMIFS('3_Auftragsauswahl'!14:14,'3_Auftragsauswahl'!10:10,Kalkulation!G23,'3_Auftragsauswahl'!9:9,Kalkulation!$L$4,'3_Auftragsauswahl'!13:13,"=x") -> 0 | H48: =SUMIFS('3_Auftragsauswahl'!14:14,'3_Auftragsauswahl'!10:10,Kalkulation!H23,'3_Auftragsauswahl'!9:9,Kalkulation!$L$4,'3_Auftragsauswahl'!13:13,"=x") -> 0 | I48: =SUMIFS('3_Auftragsauswahl'!14:14,'3_Auftragsauswahl'!10:10,Kalkulation!I23,'3_Auftragsauswahl'!9:9,Kalkulation!$L$4,'3_Auftragsauswahl'!13:13,"=x") -> 0 | J48: =SUM(C48:I48) -> 0
B49: Prüferstunden Nachschau BaFin | C49: =SUMIFS('3_Auftragsauswahl'!14:14,'3_Auftragsauswahl'!10:10,Kalkulation!C23,'3_Auftragsauswahl'!9:9,Kalkulation!$L$5,'3_Auftragsauswahl'!13:13,"=x") -> 0 | D49: =SUMIFS('3_Auftragsauswahl'!14:14,'3_Auftragsauswahl'!10:10,Kalkulation!D23,'3_Auftragsauswahl'!9:9,Kalkulation!$L$5,'3_Auftragsauswahl'!13:13,"=x") -> 0 | E49: =SUMIFS('3_Auftragsauswahl'!14:14,'3_Auftragsauswahl'!10:10,Kalkulation!E23,'3_Auftragsauswahl'!9:9,Kalkulation!$L$5,'3_Auftragsauswahl'!13:13,"=x") -> 0 | F49: =SUMIFS('3_Auftragsauswahl'!14:14,'3_Auftragsauswahl'!10:10,Kalkulation!F23,'3_Auftragsauswahl'!9:9,Kalkulation!$L$5,'3_Auftragsauswahl'!13:13,"=x") -> 0 | G49: =SUMIFS('3_Auftragsauswahl'!14:14,'3_Auftragsauswahl'!10:10,Kalkulation!G23,'3_Auftragsauswahl'!9:9,Kalkulation!$L$5,'3_Auftragsauswahl'!13:13,"=x") -> 0 | H49: =SUMIFS('3_Auftragsauswahl'!14:14,'3_Auftragsauswahl'!10:10,Kalkulation!H23,'3_Auftragsauswahl'!9:9,Kalkulation!$L$5,'3_Auftragsauswahl'!13:13,"=x") -> 0 | I49: =SUMIFS('3_Auftragsauswahl'!14:14,'3_Auftragsauswahl'!10:10,Kalkulation!I23,'3_Auftragsauswahl'!9:9,Kalkulation!$L$5,'3_Auftragsauswahl'!13:13,"=x") -> 0 | J49: =SUM(C49:I49) -> 0
C51: =C2 -> 20xx | D51: =D2 -> 20xx | E51: =E2 -> 20xx | F51: =F2 -> 20xx | G51: =G2 -> 20xx | H51: =H2 -> 20xx | I51: =I2 -> 20xx | J51: Summe
B52: Umsatzerlöse Auftragsprüfungen Gesamt | C52: =SUMIFS('3_Auftragsauswahl'!16:16,'3_Auftragsauswahl'!10:10,Kalkulation!C2) -> 0 | D52: =SUMIFS('3_Auftragsauswahl'!16:16,'3_Auftragsauswahl'!10:10,Kalkulation!D2) -> 0 | E52: =SUMIFS('3_Auftragsauswahl'!16:16,'3_Auftragsauswahl'!10:10,Kalkulation!E2) -> 0 | F52: =SUMIFS('3_Auftragsauswahl'!16:16,'3_Auftragsauswahl'!10:10,Kalkulation!F2) -> 0 | G52: =SUMIFS('3_Auftragsauswahl'!16:16,'3_Auftragsauswahl'!10:10,Kalkulation!G2) -> 0 | H52: =SUMIFS('3_Auftragsauswahl'!16:16,'3_Auftragsauswahl'!10:10,Kalkulation!H2) -> 0 | I52: =SUMIFS('3_Auftragsauswahl'!16:16,'3_Auftragsauswahl'!10:10,Kalkulation!I2) -> 0 | J52: =SUM(C52:I52) -> 0
B54: Prüferstunden JAP | C54: =SUMIFS('3_Auftragsauswahl'!16:16,'3_Auftragsauswahl'!10:10,Kalkulation!C44,'3_Auftragsauswahl'!9:9,Kalkulation!$L$3) -> 0 | D54: =SUMIFS('3_Auftragsauswahl'!16:16,'3_Auftragsauswahl'!10:10,Kalkulation!D44,'3_Auftragsauswahl'!9:9,Kalkulation!$L$3) -> 0 | E54: =SUMIFS('3_Auftragsauswahl'!16:16,'3_Auftragsauswahl'!10:10,Kalkulation!E44,'3_Auftragsauswahl'!9:9,Kalkulation!$L$3) -> 0 | F54: =SUMIFS('3_Auftragsauswahl'!16:16,'3_Auftragsauswahl'!10:10,Kalkulation!F44,'3_Auftragsauswahl'!9:9,Kalkulation!$L$3) -> 0 | G54: =SUMIFS('3_Auftragsauswahl'!16:16,'3_Auftragsauswahl'!10:10,Kalkulation!G44,'3_Auftragsauswahl'!9:9,Kalkulation!$L$3) -> 0 | H54: =SUMIFS('3_Auftragsauswahl'!16:16,'3_Auftragsauswahl'!10:10,Kalkulation!H44,'3_Auftragsauswahl'!9:9,Kalkulation!$L$3) -> 0 | I54: =SUMIFS('3_Auftragsauswahl'!16:16,'3_Auftragsauswahl'!10:10,Kalkulation!I44,'3_Auftragsauswahl'!9:9,Kalkulation!$L$3) -> 0 | J54: =SUM(C54:I54) -> 0
B55: Prüferstunden KAP | C55: =SUMIFS('3_Auftragsauswahl'!16:16,'3_Auftragsauswahl'!10:10,Kalkulation!C44,'3_Auftragsauswahl'!9:9,Kalkulation!$L$4) -> 0 | D55: =SUMIFS('3_Auftragsauswahl'!16:16,'3_Auftragsauswahl'!10:10,Kalkulation!D44,'3_Auftragsauswahl'!9:9,Kalkulation!$L$4) -> 0 | E55: =SUMIFS('3_Auftragsauswahl'!16:16,'3_Auftragsauswahl'!10:10,Kalkulation!E44,'3_Auftragsauswahl'!9:9,Kalkulation!$L$4) -> 0 | F55: =SUMIFS('3_Auftragsauswahl'!16:16,'3_Auftragsauswahl'!10:10,Kalkulation!F44,'3_Auftragsauswahl'!9:9,Kalkulation!$L$4) -> 0 | G55: =SUMIFS('3_Auftragsauswahl'!16:16,'3_Auftragsauswahl'!10:10,Kalkulation!G44,'3_Auftragsauswahl'!9:9,Kalkulation!$L$4) -> 0 | H55: =SUMIFS('3_Auftragsauswahl'!16:16,'3_Auftragsauswahl'!10:10,Kalkulation!H44,'3_Auftragsauswahl'!9:9,Kalkulation!$L$4) -> 0 | I55: =SUMIFS('3_Auftragsauswahl'!16:16,'3_Auftragsauswahl'!10:10,Kalkulation!I44,'3_Auftragsauswahl'!9:9,Kalkulation!$L$4) -> 0 | J55: =SUM(C55:I55) -> 0
B56: Prüferstunden BaFin | C56: =SUMIFS('3_Auftragsauswahl'!16:16,'3_Auftragsauswahl'!10:10,Kalkulation!C44,'3_Auftragsauswahl'!9:9,Kalkulation!$L$5) -> 0 | D56: =SUMIFS('3_Auftragsauswahl'!16:16,'3_Auftragsauswahl'!10:10,Kalkulation!D44,'3_Auftragsauswahl'!9:9,Kalkulation!$L$5) -> 0 | E56: =SUMIFS('3_Auftragsauswahl'!16:16,'3_Auftragsauswahl'!10:10,Kalkulation!E44,'3_Auftragsauswahl'!9:9,Kalkulation!$L$5) -> 0 | F56: =SUMIFS('3_Auftragsauswahl'!16:16,'3_Auftragsauswahl'!10:10,Kalkulation!F44,'3_Auftragsauswahl'!9:9,Kalkulation!$L$5) -> 0 | G56: =SUMIFS('3_Auftragsauswahl'!16:16,'3_Auftragsauswahl'!10:10,Kalkulation!G44,'3_Auftragsauswahl'!9:9,Kalkulation!$L$5) -> 0 | H56: =SUMIFS('3_Auftragsauswahl'!16:16,'3_Auftragsauswahl'!10:10,Kalkulation!H44,'3_Auftragsauswahl'!9:9,Kalkulation!$L$5) -> 0 | I56: =SUMIFS('3_Auftragsauswahl'!16:16,'3_Auftragsauswahl'!10:10,Kalkulation!I44,'3_Auftragsauswahl'!9:9,Kalkulation!$L$5) -> 0 | J56: =SUM(C56:I56) -> 0
